BEGIN:VCALENDAR
VERSION:2.0
PRODID:icalendar-ruby
CALSCALE:GREGORIAN
METHOD:PUBLISH
BEGIN:VEVENT
DTSTAMP:20260424T140736Z
UID:23-343399@calvaryschaumburg.org
DTSTART:20260426T130000Z
DTEND:20260426T133000Z
CLASS:PUBLIC
CREATED:20260319T135905
DESCRIPTION:Gathered Prayer 8:00am on Zoom
LAST-MODIFIED:20260319T135905
LOCATION:
SUMMARY:Gathered Prayer
URL;VALUE=URI:https://www.calvaryschaumburg.org/events/gathered-prayer/2026
 -04-26
END:VEVENT
END:VCALENDAR
