BEGIN:VCALENDAR
VERSION:2.0
PRODID:icalendar-ruby
CALSCALE:GREGORIAN
METHOD:PUBLISH
BEGIN:VEVENT
DTSTAMP:20260425T171024Z
UID:23-343417@calvaryschaumburg.org
DTSTART:20260830T130000Z
DTEND:20260830T133000Z
CLASS:PUBLIC
CREATED:20260319T135905
DESCRIPTION:Gathered Prayer 8:00am on Zoom
LAST-MODIFIED:20260319T135905
LOCATION:
SUMMARY:Gathered Prayer
URL;VALUE=URI:https://www.calvaryschaumburg.org/events/gathered-prayer/2026
 -08-30
END:VEVENT
END:VCALENDAR
