BEGIN:VCALENDAR
VERSION:2.0
PRODID:icalendar-ruby
CALSCALE:GREGORIAN
METHOD:PUBLISH
BEGIN:VEVENT
DTSTAMP:20260424T165456Z
UID:16-343242@calvaryschaumburg.org
DTSTART:20260428T164500Z
DTEND:20260428T174500Z
CLASS:PUBLIC
CREATED:20260316T130231
DESCRIPTION:If you are a mama of a munchkin and are interested in joining a
  small group dedicated to supporting moms\, please pick up a flyer outside
  of the nursery and preschool area or email mamasandmunchkinsccc@gmail.co
 m.
LAST-MODIFIED:20260316T130231
LOCATION:
SUMMARY:Mama's & Munchkins
URL;VALUE=URI:https://www.calvaryschaumburg.org/events/mamas-munchkins/2026
 -04-28
ATTACH;FILENAME=Womens-Ministry.jpg;FMTTYPE=image/jpeg:https://dq5pwpg1q8ru
 0.cloudfront.net/2026/03/16/18/02/31/82f014cf-1882-4ba1-9ee3-b1dc5f35dff9/
 Womens-Ministry.jpg
END:VEVENT
END:VCALENDAR
