BEGIN:VCALENDAR
VERSION:2.0
PRODID:icalendar-ruby
CALSCALE:GREGORIAN
METHOD:PUBLISH
BEGIN:VEVENT
DTSTAMP:20260425T155346Z
UID:19-343324@calvaryschaumburg.org
DTSTART:20260813T140000Z
DTEND:20260813T150000Z
CLASS:PUBLIC
CREATED:20260319T114627
DESCRIPTION:
LAST-MODIFIED:20260319T114627
LOCATION:Room 235
SUMMARY:Men's Bible Study
URL;VALUE=URI:https://www.calvaryschaumburg.org/events/mens-bible-study/202
 6-08-13
ATTACH;FILENAME=Bible-Study.jpg;FMTTYPE=image/jpeg:https://dq5pwpg1q8ru0.cl
 oudfront.net/2026/03/19/16/46/26/90066786-4e06-4285-8971-89205beae93d/Bibl
 e-Study.jpg
END:VEVENT
END:VCALENDAR
