BEGIN:VCALENDAR
VERSION:2.0
PRODID:icalendar-ruby
CALSCALE:GREGORIAN
METHOD:PUBLISH
BEGIN:VEVENT
DTSTAMP:20260424T225826Z
UID:24-343548@calvaryschaumburg.org
DTSTART:20260912T133000Z
DTEND:20260912T153000Z
CLASS:PUBLIC
CREATED:20260323T132932
DESCRIPTION:The Men’s Breakfast will be held at Golden Corral\, 154 S. Ga
 ry Ave\, Bloomingdale\, IL. 
LAST-MODIFIED:20260323T132932
LOCATION:Golden Corral\, 154 S. Gary Ave\, Bloomingdale\, IL
SUMMARY:Men's Breakfast
URL;VALUE=URI:https://www.calvaryschaumburg.org/events/mens-breakfast/2026-
 09-12
ATTACH;FILENAME=Mens-Fellowship-Breakfast.png;FMTTYPE=image/png:https://dq5
 pwpg1q8ru0.cloudfront.net/2026/03/23/18/29/32/acfc4986-151e-4b99-92d1-f1b9
 d80af428/Mens-Fellowship-Breakfast.png
END:VEVENT
END:VCALENDAR
