BEGIN:VCALENDAR
VERSION:2.0
PRODID:icalendar-ruby
CALSCALE:GREGORIAN
METHOD:PUBLISH
BEGIN:VEVENT
DTSTAMP:20260424T165733Z
UID:27-343556@calvaryschaumburg.org
DTSTART:20260613T130000Z
DTEND:20260613T190000Z
CLASS:PUBLIC
CREATED:20260420T132145
DESCRIPTION:Packing for House of Worship -  You can also join us on Saturd
 ay morning\, June 13th\, in the gym to box and ship the items. Todd Caplin
 ger\, our missionary in the Philippines\, will receive and distribute the 
 items\, while sharing the message of the Gospel of Christ to the poorest o
 f the poor. For more details\, please visit the Welcome Desk or contact Ea
 rl Casas or Brian Phalen.
LAST-MODIFIED:20260420T132145
LOCATION:Gym
SUMMARY:Philippines Missions Packing Day
URL;VALUE=URI:https://www.calvaryschaumburg.org/events/philippines-missions
 -packing-day/2026-06-13
ATTACH;FILENAME=Donation-packing-boxes.jpg;FMTTYPE=image/jpeg:https://dq5pw
 pg1q8ru0.cloudfront.net/2026/04/20/18/21/45/2409f042-1e4e-412b-b622-527a9e
 3bc438/Donation-packing-boxes.jpg
END:VEVENT
END:VCALENDAR
