BEGIN:VCALENDAR
VERSION:2.0
PRODID:icalendar-ruby
CALSCALE:GREGORIAN
METHOD:PUBLISH
BEGIN:VEVENT
DTSTAMP:20260425T143600Z
UID:14-343201@calvaryschaumburg.org
DTSTART:20260810T143000Z
DTEND:20260810T160000Z
CLASS:PUBLIC
CREATED:20260316T125014
DESCRIPTION:A new group for all women every Monday from 9:30-11:00am in roo
 m 226. We will be lifting our burdened hearts up to the Lord for adult chi
 ldren\, teens\, kids\, and loved ones. If interested email Sue Spacone at 
 suespacone@yahoo.com or sign up at the Welcome Center.
LAST-MODIFIED:20260316T125014
LOCATION:Room 226
SUMMARY:Praying Hands
URL;VALUE=URI:https://www.calvaryschaumburg.org/events/praying-hands/2026-0
 8-10
ATTACH;FILENAME=Womens-Ministry.jpg;FMTTYPE=image/jpeg:https://dq5pwpg1q8ru
 0.cloudfront.net/2026/03/16/17/50/13/f96a5041-0f22-460f-8636-cb5b31259bcf/
 Womens-Ministry.jpg
END:VEVENT
END:VCALENDAR
