BEGIN:VCALENDAR
VERSION:2.0
PRODID:icalendar-ruby
CALSCALE:GREGORIAN
METHOD:PUBLISH
BEGIN:VEVENT
DTSTAMP:20260424T134800Z
UID:26-343555@calvaryschaumburg.org
DTSTART:20260426T000000Z
DTEND:20260426T023000Z
CLASS:PUBLIC
CREATED:20260415T112512
DESCRIPTION:\nFaith &amp\; Fire\nPrayer and Worship Night\nCome together fo
 r a night of heartfelt worship\, reflection\, and powerful prayer.\n\n\nEv
 eryone is welcome.\n\n\nContact Joshua Steuer for additional information.\
 n
LAST-MODIFIED:20260415T112512
LOCATION:Refinery
SUMMARY:Refinery Faith & Fire
URL;VALUE=URI:https://www.calvaryschaumburg.org/events/refinery-faith-fire/
 2026-04-25
ATTACH;FILENAME=PAW-april-28th-4.25-x-5.5-in-1.jpg;FMTTYPE=image/jpeg:https
 ://dq5pwpg1q8ru0.cloudfront.net/2026/04/15/16/25/12/e5da5e75-9d12-452f-b3f
 a-9e2f2c117581/PAW-april-28th-4.25-x-5.5-in-1.jpg
END:VEVENT
END:VCALENDAR
