BEGIN:VCALENDAR
VERSION:2.0
PRODID:icalendar-ruby
CALSCALE:GREGORIAN
METHOD:PUBLISH
BEGIN:VEVENT
DTSTAMP:20260424T140540Z
UID:11-343141@calvaryschaumburg.org
DTSTART:20260426T233000Z
DTEND:20260427T013000Z
CLASS:PUBLIC
CREATED:20260316T123737
DESCRIPTION:
LAST-MODIFIED:20260316T123737
LOCATION:
SUMMARY:Refinery
URL;VALUE=URI:https://www.calvaryschaumburg.org/events/refinery/2026-04-26
ATTACH;FILENAME=Refinery-pic.png;FMTTYPE=image/png:https://dq5pwpg1q8ru0.cl
 oudfront.net/2026/03/16/17/37/37/e26863b0-aace-432c-9071-b5ede4ba9471/Refi
 nery-pic.png
END:VEVENT
END:VCALENDAR
