BEGIN:VCALENDAR
VERSION:2.0
PRODID:icalendar-ruby
CALSCALE:GREGORIAN
METHOD:PUBLISH
BEGIN:VEVENT
DTSTAMP:20260424T170942Z
UID:28-343628@calvaryschaumburg.org
DTSTART:20260720T230000Z
DTEND:20260725T010000Z
CLASS:PUBLIC
CREATED:20260423T133323
DESCRIPTION:Shining a Light on Who Jesus Really Is\nKids aged 4-12 are invi
 ted to Illumination Station VBS for the brightest week of the year! While 
 many people claim to know about Jesus\, many are in the dark about who He 
 really is. Some might see Jesus as just a person from history\, a good man
 \, or a wise teacher but He is much more than that.\nAt Illumination Stati
 on VBS\, kids will be challenged to answer Jesus' important question to Hi
 s disciples\, "Who do you say that I am?" As they explore all the ways lig
 ht brightens\, illuminates\, reflects\, and reveals\, kids will discover t
 hat Jesus is the light who brings hope to a dark world. \nJesus spoke to 
 them again: "I am the light of the world. Anyone who follows me will never
  walk in the darkness but will have the light of life." John 8:12 \n \n
 July 20 - 24th 6:00 - 8:00pm \nLast day of VBS is family fun night - pare
 nts plan to stay for the fun.\nRegistration opens in late May\, check back
  for more details!
LAST-MODIFIED:20260423T133323
LOCATION:
SUMMARY:VBS Illumination Station
URL;VALUE=URI:https://www.calvaryschaumburg.org/events/vbs-illumination-sta
 tion/2026-07-20
ATTACH;FILENAME=vbs_2026_promo-banner.jpeg;FMTTYPE=image/jpeg:https://dq5pw
 pg1q8ru0.cloudfront.net/2026/04/23/18/24/05/08ca8665-dbc4-4a55-b02a-e68eff
 2ff92f/vbs_2026_promo-banner.jpeg
END:VEVENT
END:VCALENDAR
