BEGIN:VCALENDAR
VERSION:2.0
PRODID:icalendar-ruby
CALSCALE:GREGORIAN
METHOD:PUBLISH
BEGIN:VEVENT
DTSTAMP:20260425T124327Z
UID:22-343384@calvaryschaumburg.org
DTSTART:20260730T140000Z
DTEND:20260730T160000Z
CLASS:PUBLIC
CREATED:20260319T124532
DESCRIPTION:The group meets from 9:30 - 11:00am. If you are interested\, p
 lease contact Barb Quinn at bquinn113@gmail.com for more information.
LAST-MODIFIED:20260319T124532
LOCATION:Room 226
SUMMARY:Women's Bible Study
URL;VALUE=URI:https://www.calvaryschaumburg.org/events/womens-bible-study--
 22/2026-07-30
ATTACH;FILENAME=Bible-Study.jpg;FMTTYPE=image/jpeg:https://dq5pwpg1q8ru0.cl
 oudfront.net/2026/03/19/17/45/32/19aab93c-040c-41ba-aaf0-79b9c6f32a7f/Bibl
 e-Study.jpg
END:VEVENT
END:VCALENDAR
