BEGIN:VCALENDAR
VERSION:2.0
PRODID:icalendar-ruby
CALSCALE:GREGORIAN
METHOD:PUBLISH
BEGIN:VEVENT
DTSTAMP:20260424T182934Z
UID:15-343216@calvaryschaumburg.org
DTSTART:20260505T000000Z
DTEND:20260505T013000Z
CLASS:PUBLIC
CREATED:20260316T125505
DESCRIPTION:We want to invite women - young and old- to a weekly book study
 \, starting Monday\, Jan 12th\, at 7pm in room 226. While many people kno
 w about God\, not many people truly know Him. In the modern classic Knowi
 ng God\, J.I. Packer challenges Christians to the most important pursuit 
 of their lives- to know and be known by God. Any questions email Toni Geor
 ge at tonigeorge75@yahoo.com.
LAST-MODIFIED:20260316T125505
LOCATION:Room 226
SUMMARY:Women's Book Study
URL;VALUE=URI:https://www.calvaryschaumburg.org/events/womens-book-study/20
 26-05-04
ATTACH;FILENAME=Womens-Ministry.jpg;FMTTYPE=image/jpeg:https://dq5pwpg1q8ru
 0.cloudfront.net/2026/03/16/17/55/04/b856344c-7260-4467-9951-461637802a3e/
 Womens-Ministry.jpg
END:VEVENT
END:VCALENDAR
